BEGIN:VCALENDAR
VERSION:2.0
PRODID:-//Toronto Roller Derby - ECPv6.15.20//NONSGML v1.0//EN
CALSCALE:GREGORIAN
METHOD:PUBLISH
X-WR-CALNAME:Toronto Roller Derby
X-ORIGINAL-URL:https://torontorollerderby.com
X-WR-CALDESC:Events for Toronto Roller Derby
REFRESH-INTERVAL;VALUE=DURATION:PT1H
X-Robots-Tag:noindex
X-PUBLISHED-TTL:PT1H
BEGIN:VTIMEZONE
TZID:America/Toronto
BEGIN:DAYLIGHT
TZOFFSETFROM:-0500
TZOFFSETTO:-0400
TZNAME:EDT
DTSTART:20250309T070000
END:DAYLIGHT
BEGIN:STANDARD
TZOFFSETFROM:-0400
TZOFFSETTO:-0500
TZNAME:EST
DTSTART:20251102T060000
END:STANDARD
BEGIN:DAYLIGHT
TZOFFSETFROM:-0500
TZOFFSETTO:-0400
TZNAME:EDT
DTSTART:20260308T070000
END:DAYLIGHT
BEGIN:STANDARD
TZOFFSETFROM:-0400
TZOFFSETTO:-0500
TZNAME:EST
DTSTART:20261101T060000
END:STANDARD
BEGIN:DAYLIGHT
TZOFFSETFROM:-0500
TZOFFSETTO:-0400
TZNAME:EDT
DTSTART:20270314T070000
END:DAYLIGHT
BEGIN:STANDARD
TZOFFSETFROM:-0400
TZOFFSETTO:-0500
TZNAME:EST
DTSTART:20271107T060000
END:STANDARD
END:VTIMEZONE
BEGIN:VEVENT
DTSTART;TZID=America/Toronto:20260321T100000
DTEND;TZID=America/Toronto:20260322T180000
DTSTAMP:20260423T185629
CREATED:20260223T193518Z
LAST-MODIFIED:20260224T030647Z
UID:712-1774087200-1774202400@torontorollerderby.com
SUMMARY:Quick RIP to the 6ix
DESCRIPTION:Out for a rip? Come watch a weekend full of intense Roller Derby! tickets available online and at the door.\n\n*BYOC for trackside seating!\n\nSanctioned games will feature:Toronto’s All StarsMontreal’s SexposHammer City’s Eh! teamQueen City’s Lake Effect FuriesConnecticut Roller Derby’s All Stars and Yankee Brutals!\nDAY 1– Connecticut All Stars vs Montreal Sexpos– Hammer City EH team vs Connecticut Yankee Brutals– Montreal Sexpos vs Queen City Lake Effect Furies\nDAY 2– Toronto All Stars vs Connecticut Yankee Brutals– Queen City Lake Effect Furies vs Connecticut All Stars– Hammer City EH team vs Toronto All Stars– A/B SCRIMMAGE!\n           For skaters who are interested\, Durham Region Roller Derby is hosting an A/B scrimmage\, signup here -> https://forms.gle/W5cVdtMANv5JKWyy7\n\nVENDOR/ SPONSOR INFOWe hope to have some local vendors join us at our bouts. If you’re interested in becoming a vendor please contact us at vpbd@torontorollerderby.com\n\nOFFICIATING INFO\nHead over to our Co-Host\, Montreal Roller Derby’s website for details on joining the officiating crew here: https://www.mtlrd.com/events/quick-rip-to-the-6ix
URL:https://torontorollerderby.com/event/quick-rip-to-the-6ix/
LOCATION:King City Arena & Community Centre\, 25 Doctors Lane #2nd Floor\, King City\,\, ON\, L7B 1G2\, Canada
ATTACH;FMTTYPE=image/jpeg:https://torontorollerderby.com/wp-content/uploads/2026/02/636895545_1493850752745341_5939255628111745034_n.jpg
END:VEVENT
BEGIN:VEVENT
DTSTART;TZID=America/Toronto:20260430T190000
DTEND;TZID=America/Toronto:20260430T220000
DTSTAMP:20260423T185629
CREATED:20260225T053620Z
LAST-MODIFIED:20260413T172434Z
UID:732-1777575600-1777586400@torontorollerderby.com
SUMMARY:Monthly League Scrimmage
DESCRIPTION:League Scrimmage \nJANUARY – C / FRESH LEVEL\nFEBRUARY – A/B/C MIXED LEVEL\nMARCH – A/B/C MIXED LEVEL\n➡️ APRIL – C / FRESH LEVEL\nMAY – A/B/C MIXED LEVEL \nEveryone welcome! Bring Black & White with Numbers & Armbands if you have them! \nRough Schedule\n7:00 – Arrive & Self Led Off Skates Warm Up\n7:15 – ToRD Led On Skates Warm Up\n7:30 – Officials & Captains Chat\n7:35 – First Half Begins \nSign Up to skate or officiate here! \nC / FRESH LEVEL SCRIMMAGE NOTE:\nSnacks to share are welcomed in lieu of $10 drop in for visitors
URL:https://torontorollerderby.com/event/monthly-league-scrimmage/
LOCATION:Bishop Marrocco Thomas Merton\, 1515 Bloor Street W\, 4th Floor Gym\, Toronto\, Ontario\, M6P1A3\, Canada
ATTACH;FMTTYPE=image/jpeg:https://torontorollerderby.com/wp-content/uploads/2026/02/tord_jan_scrim-61.jpg
END:VEVENT
END:VCALENDAR